BEGIN:VCALENDAR
VERSION:2.0
PRODID:-//SV Oberjesingen - ECPv6.15.20//NONSGML v1.0//EN
CALSCALE:GREGORIAN
METHOD:PUBLISH
X-ORIGINAL-URL:https://svoberjesingen.de
X-WR-CALDESC:Veranstaltungen für SV Oberjesingen
REFRESH-INTERVAL;VALUE=DURATION:PT1H
X-Robots-Tag:noindex
X-PUBLISHED-TTL:PT1H
BEGIN:VTIMEZONE
TZID:Europe/Berlin
BEGIN:DAYLIGHT
TZOFFSETFROM:+0100
TZOFFSETTO:+0200
TZNAME:CEST
DTSTART:20230326T010000
END:DAYLIGHT
BEGIN:STANDARD
TZOFFSETFROM:+0200
TZOFFSETTO:+0100
TZNAME:CET
DTSTART:20231029T010000
END:STANDARD
BEGIN:DAYLIGHT
TZOFFSETFROM:+0100
TZOFFSETTO:+0200
TZNAME:CEST
DTSTART:20240331T010000
END:DAYLIGHT
BEGIN:STANDARD
TZOFFSETFROM:+0200
TZOFFSETTO:+0100
TZNAME:CET
DTSTART:20241027T010000
END:STANDARD
BEGIN:DAYLIGHT
TZOFFSETFROM:+0100
TZOFFSETTO:+0200
TZNAME:CEST
DTSTART:20250330T010000
END:DAYLIGHT
BEGIN:STANDARD
TZOFFSETFROM:+0200
TZOFFSETTO:+0100
TZNAME:CET
DTSTART:20251026T010000
END:STANDARD
END:VTIMEZONE
BEGIN:VEVENT
DTSTART;TZID=Europe/Berlin:20241018T190000
DTEND;TZID=Europe/Berlin:20241018T210000
DTSTAMP:20260426T003334
CREATED:20240120T155529Z
LAST-MODIFIED:20240916T060629Z
UID:7317-1729278000-1729285200@svoberjesingen.de
SUMMARY:Ordentliche Jahreshauptversammlung Gesamtverein
DESCRIPTION:Der SV Oberjesingen lädt ein zur ordentlichen Hauptversammlung des Gesamtvereins am Freitag\, 18. Oktober 2024 um 19.00 Uhr im Sportheim Oberjesingen. \nTagesordnung: \n\nBegrüßung\n2. Nachrufe\n3. Bericht 1. Vorsitzender\n4. Bericht des Schriftführer\n5. Bericht des Kassier\n6. Bericht der Kassenprüfer\n7. Bericht Abteilungsleiter Freizeitsport\n8. Bericht Abteilungsleiter Fußball\n9. Bericht Abteilungsleiter Volleyball\n10. Abstimmung über die Anträge\n11. Entlastung\n12. Wahlen\n13. Verschiedenes\n\nAnträge zur Tagesordnung können Sie schriftlich beim 1. Vorsitzenden Hr. Dirk Graf\, Lauterstr. 32\, Oberjesingen bis 2 Wochen vor der Versammlung einreichen. \nSportliche Grüße: \nThomas Nebel \nSchriftführer Sportverein Oberjesingen 1932 e.V. \nKontakt: \nMail: geschaeftsstelle@svoberjesingen.de \noder Telefon: 07032 959861
URL:https://svoberjesingen.de/event/jahreshauptversammlung-hauptverein-2/
LOCATION:Sportheim Oberjesingen\, Kohlplatte 1\, Oberjesingen\, 71083\, Deutschland
CATEGORIES:Alle Abteilungen
END:VEVENT
END:VCALENDAR